BEGIN:VCALENDAR
VERSION:2.0
PRODID:-//Washtenaw County Democratic Party - ECPv6.15.20//NONSGML v1.0//EN
CALSCALE:GREGORIAN
METHOD:PUBLISH
X-ORIGINAL-URL:https://www.washtenawdems.org
X-WR-CALDESC:Events for Washtenaw County Democratic Party
REFRESH-INTERVAL;VALUE=DURATION:PT1H
X-Robots-Tag:noindex
X-PUBLISHED-TTL:PT1H
BEGIN:VTIMEZONE
TZID:America/Detroit
BEGIN:DAYLIGHT
TZOFFSETFROM:-0500
TZOFFSETTO:-0400
TZNAME:EDT
DTSTART:20240310T070000
END:DAYLIGHT
BEGIN:STANDARD
TZOFFSETFROM:-0400
TZOFFSETTO:-0500
TZNAME:EST
DTSTART:20241103T060000
END:STANDARD
BEGIN:DAYLIGHT
TZOFFSETFROM:-0500
TZOFFSETTO:-0400
TZNAME:EDT
DTSTART:20250309T070000
END:DAYLIGHT
BEGIN:STANDARD
TZOFFSETFROM:-0400
TZOFFSETTO:-0500
TZNAME:EST
DTSTART:20251102T060000
END:STANDARD
BEGIN:DAYLIGHT
TZOFFSETFROM:-0500
TZOFFSETTO:-0400
TZNAME:EDT
DTSTART:20260308T070000
END:DAYLIGHT
BEGIN:STANDARD
TZOFFSETFROM:-0400
TZOFFSETTO:-0500
TZNAME:EST
DTSTART:20261101T060000
END:STANDARD
END:VTIMEZONE
BEGIN:VEVENT
DTSTART;TZID=America/Detroit:20251004T091500
DTEND;TZID=America/Detroit:20251004T120000
DTSTAMP:20260424T104030
CREATED:20250927T022954Z
LAST-MODIFIED:20251207T193747Z
UID:26789-1759569300-1759579200@www.washtenawdems.org
SUMMARY:[Video Added] WCDP's October Monthly Meeting
DESCRIPTION: Sat\, Oct 4\, 9:15am – 12:00pm\nJoin us in-person – New Location\n300 W. Michigan Ave in Downtown Ypsilanti\n“Free parking across the street in the Urgent Care parking lot.” \nYou may also join the meeting on Zoom\, at the link below: \nZoom link:  https://us02web.zoom.us/j/83935305685 \nMeeting ID: 839 3530 5685 \n9:15 Meet and Greet\n9:45 Theresa Reid\, WCDP Chair\n10:00 Congresswoman Debbie Dingell\n10:15 Panel with Democratic Secretary of State Candidates: \n\nBarb Byrum\, Ingham County Clerk\, former Michigan State Representative.\nAghogho Edevbie\, Michigan Deputy Secretary of State\, former Michigan Director\, All Voting is Local\nAdam Hollier\, former Michigan State Senator\, former Director of the Michigan Veterans Affairs Agency.\nModerator: Eli Nathans\n\n11:30 Presentations by candidates for non-partisan positions in Chelsea\, Manchester\, Milan\, and Saline \nWe need volunteers to help members find the auditorium.\nAre you able to help out to make the meeting a success?\nEmail Eli Nathans below to sign-up to help: \nYes I can volunteer
URL:https://www.washtenawdems.org/calendar/wcdps-october-monthly-meeting/
LOCATION:300 West Michigan Ave\, 300 West Michigan Ave\, Ypsilanti
CATEGORIES:Community Events
END:VEVENT
END:VCALENDAR