BEGIN:VCALENDAR
VERSION:2.0
PRODID:-//Washtenaw County Democratic Party - ECPv6.15.20//NONSGML v1.0//EN
CALSCALE:GREGORIAN
METHOD:PUBLISH
X-WR-CALNAME:Washtenaw County Democratic Party
X-ORIGINAL-URL:https://www.washtenawdems.org
X-WR-CALDESC:Events for Washtenaw County Democratic Party
REFRESH-INTERVAL;VALUE=DURATION:PT1H
X-Robots-Tag:noindex
X-PUBLISHED-TTL:PT1H
BEGIN:VTIMEZONE
TZID:America/Detroit
BEGIN:DAYLIGHT
TZOFFSETFROM:-0500
TZOFFSETTO:-0400
TZNAME:EDT
DTSTART:20250309T070000
END:DAYLIGHT
BEGIN:STANDARD
TZOFFSETFROM:-0400
TZOFFSETTO:-0500
TZNAME:EST
DTSTART:20251102T060000
END:STANDARD
BEGIN:DAYLIGHT
TZOFFSETFROM:-0500
TZOFFSETTO:-0400
TZNAME:EDT
DTSTART:20260308T070000
END:DAYLIGHT
BEGIN:STANDARD
TZOFFSETFROM:-0400
TZOFFSETTO:-0500
TZNAME:EST
DTSTART:20261101T060000
END:STANDARD
BEGIN:DAYLIGHT
TZOFFSETFROM:-0500
TZOFFSETTO:-0400
TZNAME:EDT
DTSTART:20270314T070000
END:DAYLIGHT
BEGIN:STANDARD
TZOFFSETFROM:-0400
TZOFFSETTO:-0500
TZNAME:EST
DTSTART:20271107T060000
END:STANDARD
END:VTIMEZONE
BEGIN:VEVENT
DTSTART;TZID=America/Detroit:20260423T150000
DTEND;TZID=America/Detroit:20260423T160000
DTSTAMP:20260425T133658
CREATED:20260315T184345Z
LAST-MODIFIED:20260315T184345Z
UID:10013137-1776956400-1776960000@www.washtenawdems.org
SUMMARY:What's the Plan with Leah and Ezra
DESCRIPTION:Indivisible\nVirtual Meeting \nTime\nThursdays\n3 – 4pm EDT \nLocation\nVirtual event\nJoin from anywhere \n\nAbout this event\nThe chaos out of the White House is meant to overwhelm us. Our antidote is community. Join Indivisible co-founders Leah Greenberg and Ezra Levin every Thursday to break down the week’s biggest political stories\, answer your questions\, and map out strategies for taking action.\n\n\n\n\n\nThis is people-powered politics in real time. Questions can be submitted via the Q&A function during the live event. \nReal talk. Real people. Real action. That’s the plan. \n\n\n\n\n 
URL:https://www.washtenawdems.org/calendar/whats-the-plan-with-leah-and-ezra/2026-04-23/
LOCATION:Virtual Event
CATEGORIES:Community Events
ATTACH;FMTTYPE=image/png:https://www.washtenawdems.org/wp-content/uploads/2026/03/Indivisible-the-plan.png
END:VEVENT
BEGIN:VEVENT
DTSTART;TZID=America/Detroit:20260423T163000
DTEND;TZID=America/Detroit:20260423T173000
DTSTAMP:20260425T133658
CREATED:20260420T230436Z
LAST-MODIFIED:20260420T230436Z
UID:10013215-1776961800-1776965400@www.washtenawdems.org
SUMMARY:Honk for Democracy! Rally - Ypsilanti
DESCRIPTION:Thu Apr 23rd 4:30pm – 5:30pm\n\n\nStreet Corner ProtestHonk for DemocracyThursdaysWashtenaw CountyYpsilanti\n\n\nThis week’s location: Michigan Ave & Prospect Rd\, Ypsilanti. (Parking in the Dollar Tree lot on the NW corner\, accessible from both Michigan and Prospect.) \nOrganizer: Honk for Democracy. Our small group is holding street corner protests during rush hour one day each week. Our focus is giving the passersby a chance to see protest in action and a quick opportunity to join in by honking as they drive by. For many of these people\, we are offering their first live contact with political resistance and their first time to actually register their protest\, in however small a way. We hope to provide an elemental step in building engagement\, connection\, and community.
URL:https://www.washtenawdems.org/calendar/honk-for-democracy-rally-ypsilanti/
LOCATION:MI
CATEGORIES:Community Events
ATTACH;FMTTYPE=image/png:https://www.washtenawdems.org/wp-content/uploads/2025/06/Honk-for-Democracy.png
END:VEVENT
BEGIN:VEVENT
DTSTART;TZID=America/Detroit:20260423T180000
DTEND;TZID=America/Detroit:20260423T193000
DTSTAMP:20260425T133658
CREATED:20260410T022859Z
LAST-MODIFIED:20260410T022859Z
UID:10013213-1776967200-1776972600@www.washtenawdems.org
SUMMARY:Stand up for Democracy. Take Action For Michigan!
DESCRIPTION:YOU’RE INVITED TO A FUNDRAISER FOR RE-ELECT Sue Shink FOR STATE SENATE\nSUE SHINK ANN ARBOR CAMPAIGN KICKOFF \nTHURSDAY\, APRIL 23RD\n6:00-7:30 PM\nZINGERMAN’S ROADHOUSE\n2501 JACKSON AVE\nANN ARBOR\, MI 48103 \nAt a time when people are showing up to defend democracy\, we need leaders who will do the same. Sue Shink is re-running\nto continue fighting for our communities\, protecting our rights\, and delivering real results.\nScan to volunteer and get involved or visit:\nhttps://bit.ly/4tdAJ6G
URL:https://www.washtenawdems.org/calendar/stand-up-for-democracy-take-action-for-michigan/
LOCATION:Zingerman’s Roadhouse\, 2510 Jackson Ave\, Ann Arbor\, MI\, 48103\, United States
CATEGORIES:Community Events
ATTACH;FMTTYPE=image/png:https://www.washtenawdems.org/wp-content/uploads/2026/04/423-SShink.png
GEO:42.2806774;-83.7810831
X-APPLE-STRUCTURED-LOCATION;VALUE=URI;X-ADDRESS=Zingerman’s Roadhouse 2510 Jackson Ave Ann Arbor MI 48103 United States;X-APPLE-RADIUS=500;X-TITLE=2510 Jackson Ave:geo:-83.7810831,42.2806774
END:VEVENT
BEGIN:VEVENT
DTSTART;TZID=America/Detroit:20260423T203000
DTEND;TZID=America/Detroit:20260423T223000
DTSTAMP:20260425T133658
CREATED:20260303T020711Z
LAST-MODIFIED:20260303T020837Z
UID:10013099-1776976200-1776983400@www.washtenawdems.org
SUMMARY:HOUSE MAJORITY RUNS THROUGH CALIFORNIA | Phone Banks!
DESCRIPTION:Virtual Phone Bank · Hosted by California Democratic Party \nTime\nThursdays\n5:30 – 7:30pm PST \nLocation\nVirtual event\nJoin from anywhere\nHosted in Ann Arbor\, MI 48103 \n\nAbout this event\nIn 2025\, California made history by passing Prop 50. Now it’s time to turn that victory into lasting change by Taking Back the House!\n\n\n\n\n\nWe’re going to reach out to voters in our targeted districts early to hear their issues\, concerns and ideas. And we’ll be using some of the best practices from Deep Canvassing to have more engaged and meaningful conversations. \nJoin our virtual phone banks with the Bay Area Coalition and other California Democratic Party partners and help stop the Trump / MAGA authoritarian takeover. \nWe need your help! Virtual phone banks using the Scale to Win dialer have become an essential part of campaigns. Whether you’re new to phone banking or an expert\, you have a place with our people-powered campaigns. The good news is\, phone banking is easy to learn and can be done from the comfort of your own home. We’ll provide training on both the deep canvassing script and how to use Scale to Win. \nBring a friend and be part of the movement shaping the future of our state and our country. Join us and help Take Back the House! \nFor more Bay Area Coalition actions: https://bayareacoalition.org/
URL:https://www.washtenawdems.org/calendar/house-majority-runs-through-california-phone-banks/2026-04-23/
LOCATION:Virtual Event
CATEGORIES:Campaign Organizing,Community Events,Democratic Organizations
ATTACH;FMTTYPE=image/png:https://www.washtenawdems.org/wp-content/uploads/2026/03/Call-Voters-CA.png
END:VEVENT
END:VCALENDAR