BEGIN:VCALENDAR
VERSION:2.0
PRODID:-//Washtenaw County Democratic Party - ECPv6.2.0.1//NONSGML v1.0//EN
CALSCALE:GREGORIAN
METHOD:PUBLISH
X-WR-CALNAME:Washtenaw County Democratic Party
X-ORIGINAL-URL:https://www.washtenawdems.org
X-WR-CALDESC:Events for Washtenaw County Democratic Party
REFRESH-INTERVAL;VALUE=DURATION:PT1H
X-Robots-Tag:noindex
X-PUBLISHED-TTL:PT1H
BEGIN:VTIMEZONE
TZID:America/Detroit
BEGIN:DAYLIGHT
TZOFFSETFROM:-0500
TZOFFSETTO:-0400
TZNAME:EDT
DTSTART:20260308T070000
END:DAYLIGHT
BEGIN:STANDARD
TZOFFSETFROM:-0400
TZOFFSETTO:-0500
TZNAME:EST
DTSTART:20261101T060000
END:STANDARD
END:VTIMEZONE
BEGIN:VEVENT
DTSTART;TZID=America/Detroit:20260515T160000
DTEND;TZID=America/Detroit:20260515T170000
DTSTAMP:20260421T011011
CREATED:20260420T225903Z
LAST-MODIFIED:20260420T232633Z
UID:10013230-1778860800-1778864400@www.washtenawdems.org
SUMMARY:Dexter Friday Protest - Dexter
DESCRIPTION:“Turn ‘I’ into ‘We’” Protest – Dexter\nOrganizer: Dexter Strong\, Dexter Cares.\nWeekly protest in Dexter called “Turn ‘I’ into ‘We’” every Friday\, 4:00 – 5:00. \nLocation: Monument Park (where Baker Road meets Ann Arbor-Dexter Rd in the center of town)\, Dexter.\n\n\n\n\n\nFor more information: https://www.washtenawdems.org/series/turn-i-into-we-protest-dexter/
URL:https://www.washtenawdems.org/calendar/turn-i-into-we-protest-dexter-2-2/2026-05-15/
LOCATION:Dexter\, 8077 Main St\, Dexer\, MI\, United States
CATEGORIES:Community Events
ATTACH;FMTTYPE=image/png:https://www.washtenawdems.org/wp-content/uploads/2025/06/Dexter.png
GEO:42.3379308;-83.8885259
X-APPLE-STRUCTURED-LOCATION;VALUE=URI;X-ADDRESS=Dexter 8077 Main St Dexer MI United States;X-APPLE-RADIUS=500;X-TITLE=8077 Main St:geo:-83.8885259,42.3379308
END:VEVENT
BEGIN:VEVENT
DTSTART;TZID=America/Detroit:20260515T173000
DTEND;TZID=America/Detroit:20260515T203000
DTSTAMP:20260421T011011
CREATED:20250916T043406Z
LAST-MODIFIED:20250923T220521Z
UID:10012588-1778866200-1778877000@www.washtenawdems.org
SUMMARY:Friday Protest - Ann Arbor
DESCRIPTION:MIchigan Resistance & Activism Events\n\n\n\nEvery Friday: 5:30pm – 8:30pm\n\n\n\n\nFriday-Protest Ann-Arbor Every-Week Washtenaw-County\n\n\nEvery Friday we gather at the Federal Post Office building on the corner of 5th and Liberty Street in Ann Arbor\, Michigan. We bring banners\, signs\, and flyers to educate\, raise awareness\, and ultimately end the unjust wars our elected government officials get us involved in. Location: 200 E Liberty St\, Ann Arbor. Organizer: Ann Arbor Coalition Against War. For further information: https://www.facebook.com/events/1044670690752536/1044670747419197/
URL:https://www.washtenawdems.org/calendar/friday-protest-ann-arbor/2026-05-15/
CATEGORIES:Community Events
ATTACH;FMTTYPE=image/png:https://www.washtenawdems.org/wp-content/uploads/2025/09/Friday-Protest.png
END:VEVENT
END:VCALENDAR