BEGIN:VCALENDAR
VERSION:2.0
PRODID:-//Washtenaw County Democratic Party - ECPv6.2.0.1//NONSGML v1.0//EN
CALSCALE:GREGORIAN
METHOD:PUBLISH
X-WR-CALNAME:Washtenaw County Democratic Party
X-ORIGINAL-URL:https://www.washtenawdems.org
X-WR-CALDESC:Events for Washtenaw County Democratic Party
REFRESH-INTERVAL;VALUE=DURATION:PT1H
X-Robots-Tag:noindex
X-PUBLISHED-TTL:PT1H
BEGIN:VTIMEZONE
TZID:America/Detroit
BEGIN:DAYLIGHT
TZOFFSETFROM:-0500
TZOFFSETTO:-0400
TZNAME:EDT
DTSTART:20260308T070000
END:DAYLIGHT
BEGIN:STANDARD
TZOFFSETFROM:-0400
TZOFFSETTO:-0500
TZNAME:EST
DTSTART:20261101T060000
END:STANDARD
END:VTIMEZONE
BEGIN:VEVENT
DTSTART;TZID=America/Detroit:20260523T100000
DTEND;TZID=America/Detroit:20260523T120000
DTSTAMP:20260421T124529
CREATED:20260403T161007Z
LAST-MODIFIED:20260421T010236Z
UID:10013238-1779530400-1779537600@www.washtenawdems.org
SUMMARY:WCDP Black Caucus Candidate Forums
DESCRIPTION:Washtenaw County Democratic Black Caucus – 2026 Candidate Forum Attendee RSVP\nEvent Address: Washtenaw County Learning Resource CTR\, 4135 Washtenaw Ave.\, Ann Arbor\, MI. 48108\n\nContact us at: endorsementsbc@gmail.com and cc: wcdpblackcaucus@gmail.com\n\n\n\n\n\n\nThe WCDP Black Caucus is hosting 3 Candidate Forums:  \nCandidates must register in advance to be included. Thank you to everyone who has already submitted an RSVP; we look forward to hearing your vision for the community.  You can also submit Applications for Endorsements by Clicking Here \nLocal Offices & Judges\nSaturday April 25\, 2026\n10:30 AM – 11:45 AM \nAttorney General/Secretary of State/Board of Regents/State Supreme Court/ State Board of Education\nSaturday April 25\, 2026\n12:00 – 1:15 PM \nFederal Offices & State Offices\n(includes Governor\, Senate & House Candidates)\nSaturday May 23\, 2026\n10:00 AM – 12:00 PM
URL:https://www.washtenawdems.org/calendar/wcdp-black-caucus-candidate-forums/2026-05-23/
LOCATION:Washtenaw County Learning Resource Center (WCLRC)\, 4135 Washtenaw Ave\, Ann Arbor\, MI\, 48108\, United States
CATEGORIES:Community Events
ATTACH;FMTTYPE=image/png:https://www.washtenawdems.org/wp-content/uploads/2026/04/Black-Caucus-Forums.png
GEO:42.2538337;-83.6783924
X-APPLE-STRUCTURED-LOCATION;VALUE=URI;X-ADDRESS=Washtenaw County Learning Resource Center (WCLRC) 4135 Washtenaw Ave Ann Arbor MI 48108 United States;X-APPLE-RADIUS=500;X-TITLE=4135 Washtenaw Ave:geo:-83.6783924,42.2538337
END:VEVENT
BEGIN:VEVENT
DTSTART;TZID=America/Detroit:20260523T110000
DTEND;TZID=America/Detroit:20260523T123000
DTSTAMP:20260421T124529
CREATED:20260420T231333Z
LAST-MODIFIED:20260421T005541Z
UID:10013243-1779534000-1779539400@www.washtenawdems.org
SUMMARY:A2 Plymouth & Green Resistance - Ann Arbor
DESCRIPTION:Saturdays 11:00am – 12:30pm\n\n\nAnn ArborWeekly protestWashtenaw CountySaturdays\n\nPlymouth Rd. and Green Rd.\, 3500 Plymouth Road\, Ann Arbor\, MI 48105\, USA  \n\n\n\nJoin the long-standing group at the corners of Plymouth Rd & Green Rd to show your resistance to the Trump Administration. Bring a sign of your choice\, music\, etc.\, though this is optional. No Kings events are great\, but we must continue to show up. Standing protest every Saturday to oppose the atrocities of the Trump administration. Every voice matters. Sign up and get updates at: www.mobilize.us/annarborcornerpower/event/934644. Location: Plymouth Rd. and Green Rd.\, 3500 Plymouth Road\, Ann Arbor. Notes from the organizer: Closest parking is in the Busch’s lot – SE corner. \n\n\n\nFor Questions / Comments About the Calendar (not the events themselves): miresistevents.prelude821@passinbox.com
URL:https://www.washtenawdems.org/calendar/a2-plymouth-green-resistance-ann-arbor/2026-05-23/
CATEGORIES:Community Events
ATTACH;FMTTYPE=image/png:https://www.washtenawdems.org/wp-content/uploads/2026/04/A2-Plymouth-Green-Resistance.png
END:VEVENT
BEGIN:VEVENT
DTSTART;TZID=America/Detroit:20260523T110000
DTEND;TZID=America/Detroit:20260523T130000
DTSTAMP:20260421T124529
CREATED:20251219T043458Z
LAST-MODIFIED:20251219T044418Z
UID:10012802-1779534000-1779541200@www.washtenawdems.org
SUMMARY:Facistfighters rally
DESCRIPTION:Facistfighters rally\nRally · Hosted by FACISTFIGHTERS\n\n\n\nAbout this event\n\n\nPLEASE NOTE NEW TIME\n\n\n\n\n\nRally at Tesla showroom at NEW TIME 11-1pm \nBring signs. We must tank Musk 3530 Jackson Rd\, Ann arbor\, mi Dress for Michigan weather. Park at (quality) cinema now closed do not block driveways Keep moving on sidewalk Bring signs \n\n\n\n\n\n\n\n\n\n\n\nTime:\nSaturdays\n11am – 1pm EDT \nLocation: \n\n\n\n\n\n\n\nTesla showroom\n3530 Jackson Rd\, Ann Arbor\, mi\nYou can park at (quality) cinema nearby. Protest on sidewalks do not block 2 driveways\nAnn Arbor\, MI 48103 \n\n\nYou can park at (quality) cinema nearby. Protest on sidewalks do not block 2 driveways
URL:https://www.washtenawdems.org/calendar/facistfighters-rally-2-2/2026-05-23/
LOCATION:Tesla showroom\, 3530 Jackson Rd\, Ann Arbor\, 48103\, United States
CATEGORIES:Community Events
ATTACH;FMTTYPE=image/png:https://www.washtenawdems.org/wp-content/uploads/2025/03/Tesla-Rally.png
GEO:42.2858555;-83.8021106
X-APPLE-STRUCTURED-LOCATION;VALUE=URI;X-ADDRESS=Tesla showroom 3530 Jackson Rd Ann Arbor 48103 United States;X-APPLE-RADIUS=500;X-TITLE=3530 Jackson Rd:geo:-83.8021106,42.2858555
END:VEVENT
BEGIN:VEVENT
DTSTART;TZID=America/Detroit:20260523T110000
DTEND;TZID=America/Detroit:20260523T130000
DTSTAMP:20260421T124529
CREATED:20260404T015226Z
LAST-MODIFIED:20260404T015340Z
UID:10013188-1779534000-1779541200@www.washtenawdems.org
SUMMARY:ICE OUT - Ann Arbor
DESCRIPTION:Sat Apr 4th 11:00am – 1:00pm\nAnn-ArborICE-Out-ProtestWashtenaw-CountySaturdays\n4 locations in Ann Arbor\, Ann Arbor\, MI\, USA \nEvery SATURDAY now we show up. 11-1:00. ICE OUT NOW! Come for whatever amount of time you can handle. Four major intersections in Ann Arbor: \nPlymouth & Green (Jeff)\nJackson & Maple (Corky)\nStadium & Main (Georgina)\nWashtenaw & Huron Parkway (Gordon)\nIf it will be too cold for you\, consider putting signs on your car; A car caravan/procession will drive around town. Location: Be at the old Cinema 16 parking lot on Jackson Rd. (3686 Jackson Rd.?)\, Ann Arbor. BY 11 a.m. \nFor Questions / Comments About the Calendar (not the events themselves): miresistevents.prelude821@passinbox.com
URL:https://www.washtenawdems.org/calendar/ice-out-ann-arbor/2026-05-23/
CATEGORIES:Community Events
ATTACH;FMTTYPE=image/png:https://www.washtenawdems.org/wp-content/uploads/2026/04/Resist.png
END:VEVENT
END:VCALENDAR