BEGIN:VCALENDAR
VERSION:2.0
PRODID:-//Washtenaw County Democratic Party - ECPv6.2.0.1//NONSGML v1.0//EN
CALSCALE:GREGORIAN
METHOD:PUBLISH
X-WR-CALNAME:Washtenaw County Democratic Party
X-ORIGINAL-URL:https://www.washtenawdems.org
X-WR-CALDESC:Events for Washtenaw County Democratic Party
REFRESH-INTERVAL;VALUE=DURATION:PT1H
X-Robots-Tag:noindex
X-PUBLISHED-TTL:PT1H
BEGIN:VTIMEZONE
TZID:America/Detroit
BEGIN:DAYLIGHT
TZOFFSETFROM:-0500
TZOFFSETTO:-0400
TZNAME:EDT
DTSTART:20260308T070000
END:DAYLIGHT
BEGIN:STANDARD
TZOFFSETFROM:-0400
TZOFFSETTO:-0500
TZNAME:EST
DTSTART:20261101T060000
END:STANDARD
END:VTIMEZONE
BEGIN:VEVENT
DTSTART;TZID=America/Detroit:20260909T190000
DTEND;TZID=America/Detroit:20260909T203000
DTSTAMP:20260419T105543
CREATED:20250612T230127Z
LAST-MODIFIED:20250612T230129Z
UID:10011950-1788980400-1788985800@www.washtenawdems.org
SUMMARY:WCDP County Committee - Quarterly Meeting
DESCRIPTION:The regular\, quarterly meeting of the county committee. \nMeetings are either in person or via Zoom\, depending upon the wishes of the members. \nExecutive Board members are invited to all County Committee meetings\, but attendance is not required. \nMDP bylaws stipulate that Executive Board and County Committee meetings be open to members. To observe a meeting\, contact the WCDP Secretary no later than 48 hours in advance of the meeting to enable us to check your membership status and share the Zoom link or location with you. Individuals who have not taken this step will not be admitted to the meeting.
URL:https://www.washtenawdems.org/calendar/wcdp-county-committee-quarterly-meeting-2/2026-09-09/
CATEGORIES:WCDP Programs
ATTACH;FMTTYPE=image/png:https://www.washtenawdems.org/wp-content/uploads/2022/12/wcdp-wordmark-here-for-good-twcard-ratio.png
END:VEVENT
END:VCALENDAR