BEGIN:VCALENDAR
VERSION:2.0
PRODID:-//Washtenaw County Democratic Party - ECPv6.2.0.1//NONSGML v1.0//EN
CALSCALE:GREGORIAN
METHOD:PUBLISH
X-WR-CALNAME:Washtenaw County Democratic Party
X-ORIGINAL-URL:https://www.washtenawdems.org
X-WR-CALDESC:Events for Washtenaw County Democratic Party
REFRESH-INTERVAL;VALUE=DURATION:PT1H
X-Robots-Tag:noindex
X-PUBLISHED-TTL:PT1H
BEGIN:VTIMEZONE
TZID:America/Detroit
BEGIN:DAYLIGHT
TZOFFSETFROM:-0500
TZOFFSETTO:-0400
TZNAME:EDT
DTSTART:20220313T070000
END:DAYLIGHT
BEGIN:STANDARD
TZOFFSETFROM:-0400
TZOFFSETTO:-0500
TZNAME:EST
DTSTART:20221106T060000
END:STANDARD
BEGIN:DAYLIGHT
TZOFFSETFROM:-0500
TZOFFSETTO:-0400
TZNAME:EDT
DTSTART:20230312T070000
END:DAYLIGHT
BEGIN:STANDARD
TZOFFSETFROM:-0400
TZOFFSETTO:-0500
TZNAME:EST
DTSTART:20231105T060000
END:STANDARD
BEGIN:DAYLIGHT
TZOFFSETFROM:-0500
TZOFFSETTO:-0400
TZNAME:EDT
DTSTART:20240310T070000
END:DAYLIGHT
BEGIN:STANDARD
TZOFFSETFROM:-0400
TZOFFSETTO:-0500
TZNAME:EST
DTSTART:20241103T060000
END:STANDARD
BEGIN:DAYLIGHT
TZOFFSETFROM:-0500
TZOFFSETTO:-0400
TZNAME:EDT
DTSTART:20250309T070000
END:DAYLIGHT
BEGIN:STANDARD
TZOFFSETFROM:-0400
TZOFFSETTO:-0500
TZNAME:EST
DTSTART:20251102T060000
END:STANDARD
END:VTIMEZONE
BEGIN:VEVENT
DTSTART;TZID=America/Detroit:20250301T093000
DTEND;TZID=America/Detroit:20250301T120000
DTSTAMP:20260421T160739
CREATED:20250223T172530Z
LAST-MODIFIED:20250302T013155Z
UID:10011960-1740821400-1740830400@www.washtenawdems.org
SUMMARY:[VIDEO UP] WCDP Monthly Meeting\, March 2025
DESCRIPTION:Democratic responses to Trump’s efforts to gut the federal civil service and politicize the Justice Department and the FBI; Lessons learned from the November 2024 election for Michigan House seats\nMeeting Schedule: \n\n9:45 Introduction by Theresa Reid\, WCDP Chair\n10:00 Representative Debbie Dingell\n10:30 Trump’s efforts to gut the federal civil service and politicize law enforcement\n– with Eli Savit\, Washtenaw County Prosecuting Attorney\n11:00 Lessons learned from the November 2024 election\, with panel:\n– Felicia Brabec\, former Representative\, Michigan House of Representatives\, District 33\n– Jennifer Conlin\, Representative\, Michigan House of Representatives District 48\n– Daniel Mahoney\, Mayor of Jackson and Democratic candidate in November 2024 in Michigan House of Representatives District 46
URL:https://www.washtenawdems.org/calendar/wcdp-monthly-meeting-march-2025/
LOCATION:Washtenaw County Learning Resource Center (WCLRC)\, 4135 Washtenaw Ave\, Ann Arbor\, MI\, 48108\, United States
CATEGORIES:Elected Officials,WCDP Programs
ATTACH;FMTTYPE=image/jpeg:https://www.washtenawdems.org/wp-content/uploads/2021/01/Calendar-Events-Monthly-Meeting.jpg
GEO:42.2538337;-83.6783924
X-APPLE-STRUCTURED-LOCATION;VALUE=URI;X-ADDRESS=Washtenaw County Learning Resource Center (WCLRC) 4135 Washtenaw Ave Ann Arbor MI 48108 United States;X-APPLE-RADIUS=500;X-TITLE=4135 Washtenaw Ave:geo:-83.6783924,42.2538337
END:VEVENT
BEGIN:VEVENT
DTSTART;TZID=America/Detroit:20250201T093000
DTEND;TZID=America/Detroit:20250201T120000
DTSTAMP:20260421T160739
CREATED:20250117T222413Z
LAST-MODIFIED:20250202T150832Z
UID:10011952-1738402200-1738411200@www.washtenawdems.org
SUMMARY:[VIDEO UP] WCDP Monthly Meeting\, February 2025
DESCRIPTION:Black Elected Officials Discuss Issues Affecting African Americans in the County\n \nHeld at Washtenaw County Learning Resource Center\, 4135 Washtenaw Ave.\, A2 and on Zoom. \n9:45   Introduction by Theresa Reid\, WCDP Chair\n10:00 Representative Debbie Dingell\n10:15 Washtenaw County Black elected officials: \n\n\n\nNicole Brown\, Mayor of Ypsilanti\nCynthia Harrison\, Ann Arbor City Council Member\, Ward 1\nJustin Hodge\, Washtenaw County Commissioner\, District 5\nCrystal Lyte\, Washtenaw County Commissioner\, District 2\nCaroline Sanders\, Washtenaw County Commissioner\, District 4\nChris Watson\, Ann Arbor City Council Member\, Ward 2\nJimmie Wilson\, Jr.\, Michigan House of Representative\, District 32
URL:https://www.washtenawdems.org/calendar/wcdp-monthly-meeting-february-2025/
LOCATION:Washtenaw County Learning Resource Center (WCLRC)\, 4135 Washtenaw Ave\, Ann Arbor\, MI\, 48108\, United States
CATEGORIES:Elected Officials,WCDP Programs
ATTACH;FMTTYPE=image/jpeg:https://www.washtenawdems.org/wp-content/uploads/2021/01/Calendar-Events-Monthly-Meeting.jpg
GEO:42.2538337;-83.6783924
X-APPLE-STRUCTURED-LOCATION;VALUE=URI;X-ADDRESS=Washtenaw County Learning Resource Center (WCLRC) 4135 Washtenaw Ave Ann Arbor MI 48108 United States;X-APPLE-RADIUS=500;X-TITLE=4135 Washtenaw Ave:geo:-83.6783924,42.2538337
END:VEVENT
BEGIN:VEVENT
DTSTART;TZID=America/Detroit:20250104T093000
DTEND;TZID=America/Detroit:20250104T120000
DTSTAMP:20260421T160739
CREATED:20241224T211401Z
LAST-MODIFIED:20250105T035512Z
UID:10011943-1735983000-1735992000@www.washtenawdems.org
SUMMARY:[VIDEO UP] WCDP Monthly Meeting\, January 2025
DESCRIPTION:MDP Chair Candidates’ Panel\nVideo up!  See below ⬇️  or watch on Youtube 📺 \nHeld at Washtenaw County Learning Resource Center\, 4135 Washtenaw Ave.\, A2 and on Zoom. \n9:45   Introduction by Theresa Reid\, WCDP Chair\n10:00 Washington update from Representative Debbie Dingell\n10:15 Panel of Michigan Democratic Party Chair Candidates: \n\nCurtis Hertel – formerly local elected official\, Michigan State Senator\, and Campaign Chair of the Michigan Senate Democratic Caucus.\nMark Ludwig – Chair\, MDP Rural Caucus and the Allegan Conservation District BOD;  MDP State Central Committee member.  Formerly trustee\, Fennville Public School Board and Clyde Township Planning Commission.\nAl BJ Williams – 25 years of political organizing\, grassroots leadership\, and community empowerment.
URL:https://www.washtenawdems.org/calendar/wcdp-monthly-meeting-january-2025/
LOCATION:Washtenaw County Learning Resource Center (WCLRC)\, 4135 Washtenaw Ave\, Ann Arbor\, MI\, 48108\, United States
CATEGORIES:Elected Officials,WCDP Programs
ATTACH;FMTTYPE=image/png:https://www.washtenawdems.org/wp-content/uploads/2018/02/footlogo-e1774927233728.png
GEO:42.2538337;-83.6783924
X-APPLE-STRUCTURED-LOCATION;VALUE=URI;X-ADDRESS=Washtenaw County Learning Resource Center (WCLRC) 4135 Washtenaw Ave Ann Arbor MI 48108 United States;X-APPLE-RADIUS=500;X-TITLE=4135 Washtenaw Ave:geo:-83.6783924,42.2538337
END:VEVENT
BEGIN:VEVENT
DTSTART;TZID=America/Detroit:20241005T093000
DTEND;TZID=America/Detroit:20241005T113000
DTSTAMP:20260421T160739
CREATED:20241003T004209Z
LAST-MODIFIED:20241008T133744Z
UID:10002424-1728120600-1728127800@www.washtenawdems.org
SUMMARY:[October VIDEO UP] WCDP Monthly Meeting and Social Hour
DESCRIPTION:VIDEO UP! 📺 See below or watch on YouTube! \nWe met t at the Learning Resource Center and via Zoom on October 5\, 9:30 – 11:30 am\, enjoying donuts from Washtenaw Dairy (thanks to Rae Ann Weymouth) in addition to regular coffee and treats supplied by Eli Nathans (thank you\, Eli!). On the program: \n9:45 – 10:15 Updates from electeds \n\nProsecutor Eli Savit on vandalism in Dexter to homes with Harris-Walz signs\nDebbie Dingell\, U.S. Congress\nOthers from around the county and Lansing who will inform and energize\n\n10:15 – 11:30 \n\nLearn about and practice meaningful conversations on doors with Crystal Lyte and Sharon Simonton – have some fun with role-playing!\nLearn mini-VAN hands-on as we prepare for Voter Guide delivery! (Janet Cannon)\nLearn about the Sustainable Electric Utility (SEU) proposal from A2Zero ambassador Janet Cannon\nLearn how to use the fantastic voter-finding tool WAVE\nSign up to go door-to-door to make sure people are registered and signed up to vote at home. \nSign up to deliver Voter Guides\nPick up yard signs and Voter Guides!
URL:https://www.washtenawdems.org/calendar/wcdp-monthly-meeting-and-social-hour-2/
LOCATION:Washtenaw County Learning Resource Center (WCLRC)\, 4135 Washtenaw Ave\, Ann Arbor\, MI\, 48108\, United States
CATEGORIES:Elected Officials,WCDP Programs
ATTACH;FMTTYPE=image/jpeg:https://www.washtenawdems.org/wp-content/uploads/2024/04/WCDP-GMM-March-2024-crop.jpg
GEO:42.2538337;-83.6783924
X-APPLE-STRUCTURED-LOCATION;VALUE=URI;X-ADDRESS=Washtenaw County Learning Resource Center (WCLRC) 4135 Washtenaw Ave Ann Arbor MI 48108 United States;X-APPLE-RADIUS=500;X-TITLE=4135 Washtenaw Ave:geo:-83.6783924,42.2538337
END:VEVENT
BEGIN:VEVENT
DTSTART;TZID=America/Detroit:20240713T091500
DTEND;TZID=America/Detroit:20240713T120000
DTSTAMP:20260421T160739
CREATED:20240619T233210Z
LAST-MODIFIED:20240826T201023Z
UID:10002446-1720862100-1720872000@www.washtenawdems.org
SUMMARY:[VIDEO UP] WCDP July Monthly Meeting: Washtenaw District Court & Circuit Court Judicial Candidate Panels
DESCRIPTION:Video up!  See below ⬇️  or watch on Youtube 📺\n9:15–9:45 – Social time\, get to know your Democratic neighbors and enjoy breakfast treats! \n9:45–10:15 – Party business \n\nWhat we’re doing\, how you can be part of it\nUpdates from state & local elected officials\nDC Update from Congresswoman Debbie Dingell\n\n10:15–10:30 –  The court system in Washtenaw County: an overview \n10:30–11:15  –  District Court (15th District) Judicial Panel \n\nTamara Garwood\, Magistrate\, 15th District Court; vice president of the Michigan Association of District Court Magistrates; member\, EMU Legal Resource Center Board of Directors; member\, Michigan State Bar Unauthorized Practice of Law Committee; Trained mediator and arbitrator.\nKerene Moore\, Director of Conviction Integrity and Expungement\, Washtenaw County Prosecutor’s Office; Former Judicial Attorney/Juvenile Referee\, Washtenaw County Circuit Court; Former Ann Arbor District Library Trustee and Human Rights Commissioner.\nModerator: Stacie Greskowiak McNulty\n\n11:15–12:00 – Washtenaw County Circuit Court (22nd Circuit) Panel \n\nJinan Hamood\, Attorney with over ten years of practice in the areas of criminal defense\, family\, and civil law; active in the community and has served in numerous organizations.\nJeffrey Worosz\, Attorney specializing in family law\, probate litigation\, and civil disputes.\nModerator: Stacie Greskowiak McNulty
URL:https://www.washtenawdems.org/calendar/wcdp-july-monthly-meeting-2024/
LOCATION:MI
CATEGORIES:Candidate Forums,Elected Officials,Recorded Session,Voting,WCDP Programs
END:VEVENT
BEGIN:VEVENT
DTSTART;TZID=America/Detroit:20240519T100000
DTEND;TZID=America/Detroit:20240519T120000
DTSTAMP:20260421T160739
CREATED:20240504T161431Z
LAST-MODIFIED:20240521T200841Z
UID:10002353-1716112800-1716120000@www.washtenawdems.org
SUMMARY:[VIDEO UP] WCDP Special Forum: Democratic candidates for U.S Senate
DESCRIPTION:[Video below or on Youtube] \nPanel participants were: \n\nNasser Beydoun\, Business leader\, Civic activist\, Board Member\, Arab American Civil Rights League\nHill Harper\, Lawyer\, union organizer\, actor\nElisa Slotkin – declined invitation\nModerator: Stacie McNulty
URL:https://www.washtenawdems.org/calendar/wcdp-special-forum-democratic-candidates-for-us-senate/
LOCATION:MI
CATEGORIES:Candidate Forums,Elected Officials,Voting,WCDP Programs
END:VEVENT
BEGIN:VEVENT
DTSTART;TZID=America/Detroit:20240504T091500
DTEND;TZID=America/Detroit:20240504T120000
DTSTAMP:20260421T160739
CREATED:20240407T173548Z
LAST-MODIFIED:20240506T120335Z
UID:10002350-1714814100-1714824000@www.washtenawdems.org
SUMMARY:[VIDEO UP] WCDP May Monthly Meeting: Responding to Domestic Violence in Washtenaw County; Democratic Candidates for the Michigan 33rd House District
DESCRIPTION:[Video below or on Youtube ] \nMeeting Schedule\n9:15 – 9:40 – Social Time \n\nGet to know your Democratic neighbors and enjoy breakfast treats!\n\n9:40 – 10:00 – Party business:  \n\nWhat we’re doing\, how you can be part of it\nUpdates from state & local elected officials\nPrecinct Delegate positions still open – deadlines coming up\nDC Update from Congresswoman Debbie Dingell\n\n10:00 – 10:25 – Messaging Michigan’s Clean Energy & Climate Action package – with Peter Sinclair \nOur Clean Energy and Climate Action package is a huge win for Michigan and for the planet\, making Michigan a national leader with 100% clean energy standard\, strong labor provisions\, streamlined construction\, and lowering utility costs. The law that guarantees farmers’ control over their land\, but Republicans are building a campaign arguing the opposite. Learn the facts and how to message them. DemCast Michigan has a great set of informational videos to share on the subject. \n10:25-11:15  Responding to Domestic Violence in Washtenaw County \n\nHon. Arianne Slay\, Circuit Court Judge and former Assistant Prosecuting Attorney and Deputy City Attorney for the City of Ann Arbor\nStacy Kearney\, MSW\, Victims’ Advocate with the Domestic Violence Unit of the Washtenaw County Prosecutor \nNicole Beverly\, Clinical Social Worker\, Survivor\, Author\, and Founder of the ENOUGH Initiative Domestic Violence Prevention Organization \nShereen Hussein\, Helpline Program Coordinator for SafeHouse Center\nModerator: Sydney Koch\n\n11:15 – noon: Democratic Candidates for the Michigan 33rd House District \n\nMorgan Foreman\, Director of Constituent Services\, Office of Representative Felicia Brabec\nRima Mohammad\, Trustee and former President\, Ann Arbor Public Schools Board of Education\nOther candidates will be invited\nModerator: Sydney Koch
URL:https://www.washtenawdems.org/calendar/wcdp-may-monthly-meeting-candidates-michigan-33rd-house-district/
LOCATION:Washtenaw County Learning Resource Center (WCLRC)\, 4135 Washtenaw Ave\, Ann Arbor\, MI\, 48108\, United States
CATEGORIES:Candidate Forums,Elected Officials,Voting,WCDP Programs
ATTACH;FMTTYPE=image/png:https://www.washtenawdems.org/wp-content/uploads/2024/04/WCDP-Mobilize-May-MI-HD-33-1200x630-ratio.png
GEO:42.2538337;-83.6783924
X-APPLE-STRUCTURED-LOCATION;VALUE=URI;X-ADDRESS=Washtenaw County Learning Resource Center (WCLRC) 4135 Washtenaw Ave Ann Arbor MI 48108 United States;X-APPLE-RADIUS=500;X-TITLE=4135 Washtenaw Ave:geo:-83.6783924,42.2538337
END:VEVENT
BEGIN:VEVENT
DTSTART;TZID=America/Detroit:20240406T091500
DTEND;TZID=America/Detroit:20240406T120000
DTSTAMP:20260421T160739
CREATED:20240310T211709Z
LAST-MODIFIED:20240407T175537Z
UID:10002342-1712394900-1712404800@www.washtenawdems.org
SUMMARY:[VIDEO UP] WCDP April Monthly Meeting: Panel of Democratic Candidates for the Office of Washtenaw County Sheriff
DESCRIPTION:Meeting Schedule\nVideo up!  See below ⬇️  or watch on Youtube 📺 \n9:15 – 9:45 – Social Time \n\nGet to know your Democratic neighbors and enjoy breakfast treats!\n\n9:45 – 10:30 – Party business:  \n\nWhat we’re doing\, how you can be part of it\nUpdates from state & local elected officials\nDC Update from Congresswoman Debbie Dingell\n\n10:30 – noon: Democratic Sheriff Candidates Panel \n\nAlyshia Dyer\, Former Police Officer\, now Therapist and Social Worker.\nDerrick Jackson\, Police officer\, Social worker\, Director of Community Engagement at the Washtenaw County Sheriff’s Office.\nKen Magee\, Law Enforcement Veteran\, Executive\, and Criminal Justice Consultant.\nModerator: Eli Nathans\n\nWashtenaw County residents were invited to send questions for the panel before the meeting.
URL:https://www.washtenawdems.org/calendar/wcdp-april-meeting-democratic-candidates-for-sheriff/
LOCATION:Washtenaw County Learning Resource Center (WCLRC)\, 4135 Washtenaw Ave\, Ann Arbor\, MI\, 48108\, United States
CATEGORIES:Candidate Forums,Elected Officials,Voting,WCDP Programs
ATTACH;FMTTYPE=image/png:https://www.washtenawdems.org/wp-content/uploads/2024/03/wcdp-mobilize-feature-april-gmm-sheriff.png
GEO:42.2538337;-83.6783924
X-APPLE-STRUCTURED-LOCATION;VALUE=URI;X-ADDRESS=Washtenaw County Learning Resource Center (WCLRC) 4135 Washtenaw Ave Ann Arbor MI 48108 United States;X-APPLE-RADIUS=500;X-TITLE=4135 Washtenaw Ave:geo:-83.6783924,42.2538337
END:VEVENT
BEGIN:VEVENT
DTSTART;TZID=America/Detroit:20220806T093000
DTEND;TZID=America/Detroit:20220806T120000
DTSTAMP:20260421T160739
CREATED:20220722T152911Z
LAST-MODIFIED:20220808T012638Z
UID:10001650-1659778200-1659787200@www.washtenawdems.org
SUMMARY:[VIDEO UP] Ann Arbor and Ypsilanti School Board Candidates Forum
DESCRIPTION:Video now up on our Youtube channel. \nThe Washtenaw County Democrats and Ann Arbor Democratic Party hosted a forum for candidates for the Ypsilanti  and Ann Arbor school boards on Saturday\, August 6\, from 9:30 am to noon via Zoom. Both boards have seven board positions; four of the Ann Arbor board positions and three Ypsilanti board positions will be determined in the November 8 general election. \nSchool board members have a say in virtually every aspect of school district functioning. They choose superintendents. They set budgets. They decide whether new schools need to be built and old schools updated. They make or influence policy on everything from book banning to student privacy to school closures for health reasons. \nThe following candidates have indicated\, as of July 31\, that they will participate in the forum: \nYpsilanti School Board Trustee candidates panel:\nMeredith Schindler\, M. Jeanice Townsend\nModerator: Maria Sheler-Edwards \nAnn Arbor School Board Trustee candidates panel:\nSusan Baskett; Kai Cortina; Jacinda Townsend Gides; Jamila James; Lena Kauffman;\nJeremy Lapham; Rima Mohammad; Susan Ward Schmidt; Andrew Spencer; Leslie Wilkins\nModerator: Deb Mexicotte
URL:https://www.washtenawdems.org/calendar/ann-arbor-and-ypsilanti-school-board-candidates-forum/
LOCATION:MI
CATEGORIES:Community Events,Elected Officials,WCDP Programs
END:VEVENT
BEGIN:VEVENT
DTSTART;TZID=America/Detroit:20220714T170000
DTEND;TZID=America/Detroit:20220714T180000
DTSTAMP:20260421T160739
CREATED:20220719T001658Z
LAST-MODIFIED:20220722T152128Z
UID:10001648-1657818000-1657821600@www.washtenawdems.org
SUMMARY:[VIDEO] Candidate Forum Democratic primary candidates for County Commission District 5
DESCRIPTION:Video now up on our Youtube channel. \nThe board of county commissioners is the primary policy-making arm of county government.  Commissioners make policies that affect virtually all aspects of community life\, from road maintenance and repair to community mental health to crime policies to transportation.  And yet\, many voters aren’t aware of the candidates for the these important positions. \nTo help August 2 primary voters choose Democratic county commissioner candidates in District  5\, the Washtenaw County Democratic Party will host a Webinar on July 14 from 5 to 6 PM.  District 5 includes Ypsilanti and Augusta Townships. \nThe candidates are Justin Hodge\, Ronnie Peterson\, and Latitia Sharp. \nJustin Hodge is the current District 5 commissioner and a professor of social work at the University of Michigan.  Ronnie Peterson\, a former county commissioner\, is the state representative for the 54th house district; he has been invited to this event but has not confirmed attendance.  Latitia Sharp is executive assistant to the county commissioner\, currently on temporary assignment in the office of the Public Defender. The panel discussion will allow the candidates to state their positions on issues of importance to county residents. \nResidents can find their county districts here: https://gisappsecure.ewashtenaw.org/public/Districts/ \nVideo now up on our Youtube channel.
URL:https://www.washtenawdems.org/calendar/candidate-forum-democratic-primary-candidates-for-county-commission-district-5/
LOCATION:MI
CATEGORIES:Community Events,Elected Officials
END:VEVENT
END:VCALENDAR