BEGIN:VCALENDAR
VERSION:2.0
PRODID:-//Washtenaw County Democratic Party - ECPv6.2.0.1//NONSGML v1.0//EN
CALSCALE:GREGORIAN
METHOD:PUBLISH
X-WR-CALNAME:Washtenaw County Democratic Party
X-ORIGINAL-URL:https://www.washtenawdems.org
X-WR-CALDESC:Events for Washtenaw County Democratic Party
REFRESH-INTERVAL;VALUE=DURATION:PT1H
X-Robots-Tag:noindex
X-PUBLISHED-TTL:PT1H
BEGIN:VTIMEZONE
TZID:America/Detroit
BEGIN:DAYLIGHT
TZOFFSETFROM:-0500
TZOFFSETTO:-0400
TZNAME:EDT
DTSTART:20260308T070000
END:DAYLIGHT
BEGIN:STANDARD
TZOFFSETFROM:-0400
TZOFFSETTO:-0500
TZNAME:EST
DTSTART:20261101T060000
END:STANDARD
END:VTIMEZONE
BEGIN:VEVENT
DTSTART;TZID=America/Detroit:20260425T110000
DTEND;TZID=America/Detroit:20260425T123000
DTSTAMP:20260421T014003
CREATED:20260420T231333Z
LAST-MODIFIED:20260421T005541Z
UID:10013239-1777114800-1777120200@www.washtenawdems.org
SUMMARY:A2 Plymouth & Green Resistance - Ann Arbor
DESCRIPTION:Saturdays 11:00am – 12:30pm\n\n\nAnn ArborWeekly protestWashtenaw CountySaturdays\n\nPlymouth Rd. and Green Rd.\, 3500 Plymouth Road\, Ann Arbor\, MI 48105\, USA  \n\n\n\nJoin the long-standing group at the corners of Plymouth Rd & Green Rd to show your resistance to the Trump Administration. Bring a sign of your choice\, music\, etc.\, though this is optional. No Kings events are great\, but we must continue to show up. Standing protest every Saturday to oppose the atrocities of the Trump administration. Every voice matters. Sign up and get updates at: www.mobilize.us/annarborcornerpower/event/934644. Location: Plymouth Rd. and Green Rd.\, 3500 Plymouth Road\, Ann Arbor. Notes from the organizer: Closest parking is in the Busch’s lot – SE corner. \n\n\n\nFor Questions / Comments About the Calendar (not the events themselves): miresistevents.prelude821@passinbox.com
URL:https://www.washtenawdems.org/calendar/a2-plymouth-green-resistance-ann-arbor/2026-04-25/
CATEGORIES:Community Events
ATTACH;FMTTYPE=image/png:https://www.washtenawdems.org/wp-content/uploads/2026/04/A2-Plymouth-Green-Resistance.png
END:VEVENT
BEGIN:VEVENT
DTSTART;TZID=America/Detroit:20260502T110000
DTEND;TZID=America/Detroit:20260502T123000
DTSTAMP:20260421T014003
CREATED:20260420T231333Z
LAST-MODIFIED:20260421T005541Z
UID:10013240-1777719600-1777725000@www.washtenawdems.org
SUMMARY:A2 Plymouth & Green Resistance - Ann Arbor
DESCRIPTION:Saturdays 11:00am – 12:30pm\n\n\nAnn ArborWeekly protestWashtenaw CountySaturdays\n\nPlymouth Rd. and Green Rd.\, 3500 Plymouth Road\, Ann Arbor\, MI 48105\, USA  \n\n\n\nJoin the long-standing group at the corners of Plymouth Rd & Green Rd to show your resistance to the Trump Administration. Bring a sign of your choice\, music\, etc.\, though this is optional. No Kings events are great\, but we must continue to show up. Standing protest every Saturday to oppose the atrocities of the Trump administration. Every voice matters. Sign up and get updates at: www.mobilize.us/annarborcornerpower/event/934644. Location: Plymouth Rd. and Green Rd.\, 3500 Plymouth Road\, Ann Arbor. Notes from the organizer: Closest parking is in the Busch’s lot – SE corner. \n\n\n\nFor Questions / Comments About the Calendar (not the events themselves): miresistevents.prelude821@passinbox.com
URL:https://www.washtenawdems.org/calendar/a2-plymouth-green-resistance-ann-arbor/2026-05-02/
CATEGORIES:Community Events
ATTACH;FMTTYPE=image/png:https://www.washtenawdems.org/wp-content/uploads/2026/04/A2-Plymouth-Green-Resistance.png
END:VEVENT
BEGIN:VEVENT
DTSTART;TZID=America/Detroit:20260509T110000
DTEND;TZID=America/Detroit:20260509T123000
DTSTAMP:20260421T014003
CREATED:20260420T231333Z
LAST-MODIFIED:20260421T005541Z
UID:10013241-1778324400-1778329800@www.washtenawdems.org
SUMMARY:A2 Plymouth & Green Resistance - Ann Arbor
DESCRIPTION:Saturdays 11:00am – 12:30pm\n\n\nAnn ArborWeekly protestWashtenaw CountySaturdays\n\nPlymouth Rd. and Green Rd.\, 3500 Plymouth Road\, Ann Arbor\, MI 48105\, USA  \n\n\n\nJoin the long-standing group at the corners of Plymouth Rd & Green Rd to show your resistance to the Trump Administration. Bring a sign of your choice\, music\, etc.\, though this is optional. No Kings events are great\, but we must continue to show up. Standing protest every Saturday to oppose the atrocities of the Trump administration. Every voice matters. Sign up and get updates at: www.mobilize.us/annarborcornerpower/event/934644. Location: Plymouth Rd. and Green Rd.\, 3500 Plymouth Road\, Ann Arbor. Notes from the organizer: Closest parking is in the Busch’s lot – SE corner. \n\n\n\nFor Questions / Comments About the Calendar (not the events themselves): miresistevents.prelude821@passinbox.com
URL:https://www.washtenawdems.org/calendar/a2-plymouth-green-resistance-ann-arbor/2026-05-09/
CATEGORIES:Community Events
ATTACH;FMTTYPE=image/png:https://www.washtenawdems.org/wp-content/uploads/2026/04/A2-Plymouth-Green-Resistance.png
END:VEVENT
BEGIN:VEVENT
DTSTART;TZID=America/Detroit:20260516T110000
DTEND;TZID=America/Detroit:20260516T123000
DTSTAMP:20260421T014003
CREATED:20260420T231333Z
LAST-MODIFIED:20260421T005541Z
UID:10013242-1778929200-1778934600@www.washtenawdems.org
SUMMARY:A2 Plymouth & Green Resistance - Ann Arbor
DESCRIPTION:Saturdays 11:00am – 12:30pm\n\n\nAnn ArborWeekly protestWashtenaw CountySaturdays\n\nPlymouth Rd. and Green Rd.\, 3500 Plymouth Road\, Ann Arbor\, MI 48105\, USA  \n\n\n\nJoin the long-standing group at the corners of Plymouth Rd & Green Rd to show your resistance to the Trump Administration. Bring a sign of your choice\, music\, etc.\, though this is optional. No Kings events are great\, but we must continue to show up. Standing protest every Saturday to oppose the atrocities of the Trump administration. Every voice matters. Sign up and get updates at: www.mobilize.us/annarborcornerpower/event/934644. Location: Plymouth Rd. and Green Rd.\, 3500 Plymouth Road\, Ann Arbor. Notes from the organizer: Closest parking is in the Busch’s lot – SE corner. \n\n\n\nFor Questions / Comments About the Calendar (not the events themselves): miresistevents.prelude821@passinbox.com
URL:https://www.washtenawdems.org/calendar/a2-plymouth-green-resistance-ann-arbor/2026-05-16/
CATEGORIES:Community Events
ATTACH;FMTTYPE=image/png:https://www.washtenawdems.org/wp-content/uploads/2026/04/A2-Plymouth-Green-Resistance.png
END:VEVENT
BEGIN:VEVENT
DTSTART;TZID=America/Detroit:20260523T110000
DTEND;TZID=America/Detroit:20260523T123000
DTSTAMP:20260421T014003
CREATED:20260420T231333Z
LAST-MODIFIED:20260421T005541Z
UID:10013243-1779534000-1779539400@www.washtenawdems.org
SUMMARY:A2 Plymouth & Green Resistance - Ann Arbor
DESCRIPTION:Saturdays 11:00am – 12:30pm\n\n\nAnn ArborWeekly protestWashtenaw CountySaturdays\n\nPlymouth Rd. and Green Rd.\, 3500 Plymouth Road\, Ann Arbor\, MI 48105\, USA  \n\n\n\nJoin the long-standing group at the corners of Plymouth Rd & Green Rd to show your resistance to the Trump Administration. Bring a sign of your choice\, music\, etc.\, though this is optional. No Kings events are great\, but we must continue to show up. Standing protest every Saturday to oppose the atrocities of the Trump administration. Every voice matters. Sign up and get updates at: www.mobilize.us/annarborcornerpower/event/934644. Location: Plymouth Rd. and Green Rd.\, 3500 Plymouth Road\, Ann Arbor. Notes from the organizer: Closest parking is in the Busch’s lot – SE corner. \n\n\n\nFor Questions / Comments About the Calendar (not the events themselves): miresistevents.prelude821@passinbox.com
URL:https://www.washtenawdems.org/calendar/a2-plymouth-green-resistance-ann-arbor/2026-05-23/
CATEGORIES:Community Events
ATTACH;FMTTYPE=image/png:https://www.washtenawdems.org/wp-content/uploads/2026/04/A2-Plymouth-Green-Resistance.png
END:VEVENT
BEGIN:VEVENT
DTSTART;TZID=America/Detroit:20260530T110000
DTEND;TZID=America/Detroit:20260530T123000
DTSTAMP:20260421T014003
CREATED:20260420T231333Z
LAST-MODIFIED:20260421T005541Z
UID:10013244-1780138800-1780144200@www.washtenawdems.org
SUMMARY:A2 Plymouth & Green Resistance - Ann Arbor
DESCRIPTION:Saturdays 11:00am – 12:30pm\n\n\nAnn ArborWeekly protestWashtenaw CountySaturdays\n\nPlymouth Rd. and Green Rd.\, 3500 Plymouth Road\, Ann Arbor\, MI 48105\, USA  \n\n\n\nJoin the long-standing group at the corners of Plymouth Rd & Green Rd to show your resistance to the Trump Administration. Bring a sign of your choice\, music\, etc.\, though this is optional. No Kings events are great\, but we must continue to show up. Standing protest every Saturday to oppose the atrocities of the Trump administration. Every voice matters. Sign up and get updates at: www.mobilize.us/annarborcornerpower/event/934644. Location: Plymouth Rd. and Green Rd.\, 3500 Plymouth Road\, Ann Arbor. Notes from the organizer: Closest parking is in the Busch’s lot – SE corner. \n\n\n\nFor Questions / Comments About the Calendar (not the events themselves): miresistevents.prelude821@passinbox.com
URL:https://www.washtenawdems.org/calendar/a2-plymouth-green-resistance-ann-arbor/2026-05-30/
CATEGORIES:Community Events
ATTACH;FMTTYPE=image/png:https://www.washtenawdems.org/wp-content/uploads/2026/04/A2-Plymouth-Green-Resistance.png
END:VEVENT
BEGIN:VEVENT
DTSTART;TZID=America/Detroit:20260606T110000
DTEND;TZID=America/Detroit:20260606T123000
DTSTAMP:20260421T014003
CREATED:20260420T231333Z
LAST-MODIFIED:20260421T005541Z
UID:10013245-1780743600-1780749000@www.washtenawdems.org
SUMMARY:A2 Plymouth & Green Resistance - Ann Arbor
DESCRIPTION:Saturdays 11:00am – 12:30pm\n\n\nAnn ArborWeekly protestWashtenaw CountySaturdays\n\nPlymouth Rd. and Green Rd.\, 3500 Plymouth Road\, Ann Arbor\, MI 48105\, USA  \n\n\n\nJoin the long-standing group at the corners of Plymouth Rd & Green Rd to show your resistance to the Trump Administration. Bring a sign of your choice\, music\, etc.\, though this is optional. No Kings events are great\, but we must continue to show up. Standing protest every Saturday to oppose the atrocities of the Trump administration. Every voice matters. Sign up and get updates at: www.mobilize.us/annarborcornerpower/event/934644. Location: Plymouth Rd. and Green Rd.\, 3500 Plymouth Road\, Ann Arbor. Notes from the organizer: Closest parking is in the Busch’s lot – SE corner. \n\n\n\nFor Questions / Comments About the Calendar (not the events themselves): miresistevents.prelude821@passinbox.com
URL:https://www.washtenawdems.org/calendar/a2-plymouth-green-resistance-ann-arbor/2026-06-06/
CATEGORIES:Community Events
ATTACH;FMTTYPE=image/png:https://www.washtenawdems.org/wp-content/uploads/2026/04/A2-Plymouth-Green-Resistance.png
END:VEVENT
BEGIN:VEVENT
DTSTART;TZID=America/Detroit:20260613T110000
DTEND;TZID=America/Detroit:20260613T123000
DTSTAMP:20260421T014003
CREATED:20260420T231333Z
LAST-MODIFIED:20260421T005541Z
UID:10013246-1781348400-1781353800@www.washtenawdems.org
SUMMARY:A2 Plymouth & Green Resistance - Ann Arbor
DESCRIPTION:Saturdays 11:00am – 12:30pm\n\n\nAnn ArborWeekly protestWashtenaw CountySaturdays\n\nPlymouth Rd. and Green Rd.\, 3500 Plymouth Road\, Ann Arbor\, MI 48105\, USA  \n\n\n\nJoin the long-standing group at the corners of Plymouth Rd & Green Rd to show your resistance to the Trump Administration. Bring a sign of your choice\, music\, etc.\, though this is optional. No Kings events are great\, but we must continue to show up. Standing protest every Saturday to oppose the atrocities of the Trump administration. Every voice matters. Sign up and get updates at: www.mobilize.us/annarborcornerpower/event/934644. Location: Plymouth Rd. and Green Rd.\, 3500 Plymouth Road\, Ann Arbor. Notes from the organizer: Closest parking is in the Busch’s lot – SE corner. \n\n\n\nFor Questions / Comments About the Calendar (not the events themselves): miresistevents.prelude821@passinbox.com
URL:https://www.washtenawdems.org/calendar/a2-plymouth-green-resistance-ann-arbor/2026-06-13/
CATEGORIES:Community Events
ATTACH;FMTTYPE=image/png:https://www.washtenawdems.org/wp-content/uploads/2026/04/A2-Plymouth-Green-Resistance.png
END:VEVENT
BEGIN:VEVENT
DTSTART;TZID=America/Detroit:20260620T110000
DTEND;TZID=America/Detroit:20260620T123000
DTSTAMP:20260421T014003
CREATED:20260420T231333Z
LAST-MODIFIED:20260421T005541Z
UID:10013247-1781953200-1781958600@www.washtenawdems.org
SUMMARY:A2 Plymouth & Green Resistance - Ann Arbor
DESCRIPTION:Saturdays 11:00am – 12:30pm\n\n\nAnn ArborWeekly protestWashtenaw CountySaturdays\n\nPlymouth Rd. and Green Rd.\, 3500 Plymouth Road\, Ann Arbor\, MI 48105\, USA  \n\n\n\nJoin the long-standing group at the corners of Plymouth Rd & Green Rd to show your resistance to the Trump Administration. Bring a sign of your choice\, music\, etc.\, though this is optional. No Kings events are great\, but we must continue to show up. Standing protest every Saturday to oppose the atrocities of the Trump administration. Every voice matters. Sign up and get updates at: www.mobilize.us/annarborcornerpower/event/934644. Location: Plymouth Rd. and Green Rd.\, 3500 Plymouth Road\, Ann Arbor. Notes from the organizer: Closest parking is in the Busch’s lot – SE corner. \n\n\n\nFor Questions / Comments About the Calendar (not the events themselves): miresistevents.prelude821@passinbox.com
URL:https://www.washtenawdems.org/calendar/a2-plymouth-green-resistance-ann-arbor/2026-06-20/
CATEGORIES:Community Events
ATTACH;FMTTYPE=image/png:https://www.washtenawdems.org/wp-content/uploads/2026/04/A2-Plymouth-Green-Resistance.png
END:VEVENT
BEGIN:VEVENT
DTSTART;TZID=America/Detroit:20260627T110000
DTEND;TZID=America/Detroit:20260627T123000
DTSTAMP:20260421T014003
CREATED:20260420T231333Z
LAST-MODIFIED:20260421T005541Z
UID:10013248-1782558000-1782563400@www.washtenawdems.org
SUMMARY:A2 Plymouth & Green Resistance - Ann Arbor
DESCRIPTION:Saturdays 11:00am – 12:30pm\n\n\nAnn ArborWeekly protestWashtenaw CountySaturdays\n\nPlymouth Rd. and Green Rd.\, 3500 Plymouth Road\, Ann Arbor\, MI 48105\, USA  \n\n\n\nJoin the long-standing group at the corners of Plymouth Rd & Green Rd to show your resistance to the Trump Administration. Bring a sign of your choice\, music\, etc.\, though this is optional. No Kings events are great\, but we must continue to show up. Standing protest every Saturday to oppose the atrocities of the Trump administration. Every voice matters. Sign up and get updates at: www.mobilize.us/annarborcornerpower/event/934644. Location: Plymouth Rd. and Green Rd.\, 3500 Plymouth Road\, Ann Arbor. Notes from the organizer: Closest parking is in the Busch’s lot – SE corner. \n\n\n\nFor Questions / Comments About the Calendar (not the events themselves): miresistevents.prelude821@passinbox.com
URL:https://www.washtenawdems.org/calendar/a2-plymouth-green-resistance-ann-arbor/2026-06-27/
CATEGORIES:Community Events
ATTACH;FMTTYPE=image/png:https://www.washtenawdems.org/wp-content/uploads/2026/04/A2-Plymouth-Green-Resistance.png
END:VEVENT
END:VCALENDAR