BEGIN:VCALENDAR
VERSION:2.0
PRODID:-//Washtenaw County Democratic Party - ECPv6.15.20//NONSGML v1.0//EN
CALSCALE:GREGORIAN
METHOD:PUBLISH
X-WR-CALNAME:Washtenaw County Democratic Party
X-ORIGINAL-URL:https://www.washtenawdems.org
X-WR-CALDESC:Events for Washtenaw County Democratic Party
REFRESH-INTERVAL;VALUE=DURATION:PT1H
X-Robots-Tag:noindex
X-PUBLISHED-TTL:PT1H
BEGIN:VTIMEZONE
TZID:America/Detroit
BEGIN:DAYLIGHT
TZOFFSETFROM:-0500
TZOFFSETTO:-0400
TZNAME:EDT
DTSTART:20240310T070000
END:DAYLIGHT
BEGIN:STANDARD
TZOFFSETFROM:-0400
TZOFFSETTO:-0500
TZNAME:EST
DTSTART:20241103T060000
END:STANDARD
BEGIN:DAYLIGHT
TZOFFSETFROM:-0500
TZOFFSETTO:-0400
TZNAME:EDT
DTSTART:20250309T070000
END:DAYLIGHT
BEGIN:STANDARD
TZOFFSETFROM:-0400
TZOFFSETTO:-0500
TZNAME:EST
DTSTART:20251102T060000
END:STANDARD
BEGIN:DAYLIGHT
TZOFFSETFROM:-0500
TZOFFSETTO:-0400
TZNAME:EDT
DTSTART:20260308T070000
END:DAYLIGHT
BEGIN:STANDARD
TZOFFSETFROM:-0400
TZOFFSETTO:-0500
TZNAME:EST
DTSTART:20261101T060000
END:STANDARD
END:VTIMEZONE
BEGIN:VEVENT
DTSTART;TZID=America/Detroit:20251205T173000
DTEND;TZID=America/Detroit:20251205T203000
DTSTAMP:20260425T064638
CREATED:20250916T043406Z
LAST-MODIFIED:20250923T220521Z
UID:10012565-1764955800-1764966600@www.washtenawdems.org
SUMMARY:Friday Protest - Ann Arbor
DESCRIPTION:MIchigan Resistance & Activism Events\n\n\n\nEvery Friday: 5:30pm – 8:30pm\n\n\n\n\nFriday-Protest Ann-Arbor Every-Week Washtenaw-County\n\n\nEvery Friday we gather at the Federal Post Office building on the corner of 5th and Liberty Street in Ann Arbor\, Michigan. We bring banners\, signs\, and flyers to educate\, raise awareness\, and ultimately end the unjust wars our elected government officials get us involved in. Location: 200 E Liberty St\, Ann Arbor. Organizer: Ann Arbor Coalition Against War. For further information: https://www.facebook.com/events/1044670690752536/1044670747419197/
URL:https://www.washtenawdems.org/calendar/friday-protest-ann-arbor/2025-12-05/
LOCATION:MI
CATEGORIES:Community Events
ATTACH;FMTTYPE=image/png:https://www.washtenawdems.org/wp-content/uploads/2025/09/Friday-Protest.png
END:VEVENT
BEGIN:VEVENT
DTSTART;TZID=America/Detroit:20251206T091500
DTEND;TZID=America/Detroit:20251206T120000
DTSTAMP:20260425T064638
CREATED:20251026T014557Z
LAST-MODIFIED:20251207T194049Z
UID:10012719-1765012500-1765022400@www.washtenawdems.org
SUMMARY:[Video Added] WCDP Monthly Meeting - December 6th
DESCRIPTION:WCDP Monthly Meeting – December\nSaturday\, December 6\, 9:15am – 12:00pm\n4135 Washtenaw Ave.\, Ann Arbor\nWashtenaw County Learning Resource Center\nZoom Link Here! \n9:15 Meet and Greet\n9:45 Theresa Reid\, WCDP Chair\n10:00 Congresswoman Debbie Dingell\n10:15 Stella Camerlengo\, President\, Michigan College Democrats\n10:30 WCDP Volunteer Appreciation\n10:45 Democratic Attorney General Candidates\n* Karen McDonald\, Oakland County Prosecuting Attorney\n* Trial Lawyer\, Neighborhood Defense Service\n*Eli Savit\, Washtenaw County Prosecuting Attorney\n*Mark Totten\, former U.S. Attorney for the Western District of Michigan\n*Moderator: Kathy Wyatt
URL:https://www.washtenawdems.org/calendar/wcdp-monthly-meeting-december-2025/
LOCATION:Washtenaw County Learning Resource Center (WCLRC)\, 4135 Washtenaw Ave\, Ann Arbor\, MI\, 48108\, United States
CATEGORIES:Community Events
GEO:42.2538337;-83.6783924
X-APPLE-STRUCTURED-LOCATION;VALUE=URI;X-ADDRESS=Washtenaw County Learning Resource Center (WCLRC) 4135 Washtenaw Ave Ann Arbor MI 48108 United States;X-APPLE-RADIUS=500;X-TITLE=4135 Washtenaw Ave:geo:-83.6783924,42.2538337
END:VEVENT
END:VCALENDAR